BEGIN:VCALENDAR
PRODID:-//Ben Fortuna//iCal4j 1.0//EN
VERSION:2.0
CALSCALE:GREGORIAN
BEGIN:VTIMEZONE
TZID:Europe/Berlin
LAST-MODIFIED:20201010T011803Z
TZURL:http://tzurl.org/zoneinfo/Europe/Berlin
X-LIC-LOCATION:Europe/Berlin
X-PROLEPTIC-TZNAME:LMT
BEGIN:STANDARD
TZNAME:CET
TZOFFSETFROM:+005328
TZOFFSETTO:+0100
DTSTART:18930401T000000
END:STANDARD
BEGIN:DAYLIGHT
TZNAME:CEST
TZOFFSETFROM:+0100
TZOFFSETTO:+0200
DTSTART:19160430T230000
RDATE:19400401T020000
RDATE:19430329T020000
RDATE:19460414T020000
RDATE:19470406T030000
RDATE:19480418T020000
RDATE:19490410T020000
RDATE:19800406T020000
END:DAYLIGHT
BEGIN:STANDARD
TZNAME:CET
TZOFFSETFROM:+0200
TZOFFSETTO:+0100
DTSTART:19161001T010000
RDATE:19421102T030000
RDATE:19431004T030000
RDATE:19441002T030000
RDATE:19451118T030000
RDATE:19461007T030000
END:STANDARD
BEGIN:DAYLIGHT
TZNAME:CEST
TZOFFSETFROM:+0100
TZOFFSETTO:+0200
DTSTART:19170416T020000
RRULE:FREQ=YEARLY;UNTIL=19180415T010000Z;BYMONTH=4;BYDAY=3MO
END:DAYLIGHT
BEGIN:STANDARD
TZNAME:CET
TZOFFSETFROM:+0200
TZOFFSETTO:+0100
DTSTART:19170917T030000
RRULE:FREQ=YEARLY;UNTIL=19180916T010000Z;BYMONTH=9;BYDAY=3MO
END:STANDARD
BEGIN:DAYLIGHT
TZNAME:CEST
TZOFFSETFROM:+0100
TZOFFSETTO:+0200
DTSTART:19440403T020000
RRULE:FREQ=YEARLY;UNTIL=19450402T010000Z;BYMONTH=4;BYDAY=1MO
END:DAYLIGHT
BEGIN:DAYLIGHT
TZNAME:CEMT
TZOFFSETFROM:+0200
TZOFFSETTO:+0300
DTSTART:19450524T020000
RDATE:19470511T030000
END:DAYLIGHT
BEGIN:DAYLIGHT
TZNAME:CEST
TZOFFSETFROM:+0300
TZOFFSETTO:+0200
DTSTART:19450924T030000
RDATE:19470629T030000
END:DAYLIGHT
BEGIN:STANDARD
TZNAME:CET
TZOFFSETFROM:+0100
TZOFFSETTO:+0100
DTSTART:19460101T000000
RDATE:19800101T000000
END:STANDARD
BEGIN:STANDARD
TZNAME:CET
TZOFFSETFROM:+0200
TZOFFSETTO:+0100
DTSTART:19471005T030000
RRULE:FREQ=YEARLY;UNTIL=19491002T010000Z;BYMONTH=10;BYDAY=1SU
END:STANDARD
BEGIN:STANDARD
TZNAME:CET
TZOFFSETFROM:+0200
TZOFFSETTO:+0100
DTSTART:19800928T030000
RRULE:FREQ=YEARLY;UNTIL=19950924T010000Z;BYMONTH=9;BYDAY=-1SU
END:STANDARD
BEGIN:DAYLIGHT
TZNAME:CEST
TZOFFSETFROM:+0100
TZOFFSETTO:+0200
DTSTART:19810329T020000
RRULE:FREQ=YEARLY;BYMONTH=3;BYDAY=-1SU
END:DAYLIGHT
BEGIN:STANDARD
TZNAME:CET
TZOFFSETFROM:+0200
TZOFFSETTO:+0100
DTSTART:19961027T030000
RRULE:FREQ=YEARLY;BYMONTH=10;BYDAY=-1SU
END:STANDARD
END:VTIMEZONE
BEGIN:VEVENT
DTSTAMP:20260423T151323Z
DTSTART;TZID=Europe/Berlin:20250824T100000
DTEND;TZID=Europe/Berlin:20250824T180000
SUMMARY:KUNSTRUNDGANG
CREATED:20250807T165307Z
LAST-MODIFIED:20250811T093102Z
DESCRIPTION:Nach den großen Erfolgen der letzten Jahre knüpfen wir in die
 sem Jahr wieder an das bekannte Format an und möchten Sie und Ihre Freun
 de herzlich einladen\, am 24. August 2025 einen Kunsttag in Bad Vilbel z
 u verbringen. 28 Künstler*innen zeigen ihre Kunst an 7 verschiedenen Sch
 auplätzen in Bad Vilbel. Entdecken Sie vielfältige Kunstwerke unter frei
 em Himmel – von Malerei und Skulptur bis hin zu Objekten\, Keramik\, Dru
 ck und Fotografien.\nKommen Sie mit den Künstlerinnen und Künstlern ins 
 Gespräch und genießen Sie die einmalige Atmosphäre unseres KUNSTRUNDGANG
 S - Kunst in den Bad Vilbeler Gärten.\nWIR FREUEN UNS AUF IHREN BESUCH!
LOCATION:Gärten in Bad Vilbel
X-LOCATION-NAME:Gärten in Bad Vilbel
X-POSTAL-CODE:61118
X-LOCALITY:Bad Vilbel
ORGANIZER;CN=Kunstverein Bad Vilbel e.V.:mailto:info@kunstverein-bad-vilb
 el.de
X-ORGANIZER-NAME:Kunstverein Bad Vilbel e.V.
X-ORGANIZER-EMAIL:info@kunstverein-bad-vilbel.de
X-ORGANIZER-TELEPHONE:06101-580082
X-ORGANIZER-FAXNUMBER:06101-580083
X-ORGANIZER-WEBSITE:https://www.kunstverein-bad-vilbel.de/
X-ORGANIZER-ADDRESS-POSTALCODE:61118
X-ORGANIZER-ADDRESS-LOCALITY:Bad Vilbel
X-ORGANIZER-ADDRESS-STREET:Frankfurter Str.75
X-ORGANIZER-GEO:50.179863\;8.740164
CONTACT:Nicole Wächtler\,06101-580082
X-CONTACT-GIVEN-NAME:Nicole
X-CONTACT-FAMILY-NAME:Wächtler
X-CONTACT-TELEPHONE:06101-580082
X-CONTACT-JOBTITLE:1.Vorsitzende
URL:https://www.kunstverein-bad-vilbel.de/
X-IONAS-CATEGORY:Ausstellung\, Messen
CATEGORIES:Ausstellung\, Messen
ATTACH;FMTTYPE=image/png:https://www.bad-vilbel.de/kalender/2025/vereinst
 ermine-2025/2025-08-24-kunstrundgang/plan.png?cid=3te.p7b
UID:65456771-a584-4535-9440-925cd0e1a286
END:VEVENT
END:VCALENDAR
