BEGIN:VCALENDAR
PRODID:-//Ben Fortuna//iCal4j 1.0//EN
VERSION:2.0
CALSCALE:GREGORIAN
BEGIN:VTIMEZONE
TZID:Europe/Berlin
LAST-MODIFIED:20201010T011803Z
TZURL:http://tzurl.org/zoneinfo/Europe/Berlin
X-LIC-LOCATION:Europe/Berlin
X-PROLEPTIC-TZNAME:LMT
BEGIN:STANDARD
TZNAME:CET
TZOFFSETFROM:+005328
TZOFFSETTO:+0100
DTSTART:18930401T000000
END:STANDARD
BEGIN:DAYLIGHT
TZNAME:CEST
TZOFFSETFROM:+0100
TZOFFSETTO:+0200
DTSTART:19160430T230000
RDATE:19400401T020000
RDATE:19430329T020000
RDATE:19460414T020000
RDATE:19470406T030000
RDATE:19480418T020000
RDATE:19490410T020000
RDATE:19800406T020000
END:DAYLIGHT
BEGIN:STANDARD
TZNAME:CET
TZOFFSETFROM:+0200
TZOFFSETTO:+0100
DTSTART:19161001T010000
RDATE:19421102T030000
RDATE:19431004T030000
RDATE:19441002T030000
RDATE:19451118T030000
RDATE:19461007T030000
END:STANDARD
BEGIN:DAYLIGHT
TZNAME:CEST
TZOFFSETFROM:+0100
TZOFFSETTO:+0200
DTSTART:19170416T020000
RRULE:FREQ=YEARLY;UNTIL=19180415T010000Z;BYMONTH=4;BYDAY=3MO
END:DAYLIGHT
BEGIN:STANDARD
TZNAME:CET
TZOFFSETFROM:+0200
TZOFFSETTO:+0100
DTSTART:19170917T030000
RRULE:FREQ=YEARLY;UNTIL=19180916T010000Z;BYMONTH=9;BYDAY=3MO
END:STANDARD
BEGIN:DAYLIGHT
TZNAME:CEST
TZOFFSETFROM:+0100
TZOFFSETTO:+0200
DTSTART:19440403T020000
RRULE:FREQ=YEARLY;UNTIL=19450402T010000Z;BYMONTH=4;BYDAY=1MO
END:DAYLIGHT
BEGIN:DAYLIGHT
TZNAME:CEMT
TZOFFSETFROM:+0200
TZOFFSETTO:+0300
DTSTART:19450524T020000
RDATE:19470511T030000
END:DAYLIGHT
BEGIN:DAYLIGHT
TZNAME:CEST
TZOFFSETFROM:+0300
TZOFFSETTO:+0200
DTSTART:19450924T030000
RDATE:19470629T030000
END:DAYLIGHT
BEGIN:STANDARD
TZNAME:CET
TZOFFSETFROM:+0100
TZOFFSETTO:+0100
DTSTART:19460101T000000
RDATE:19800101T000000
END:STANDARD
BEGIN:STANDARD
TZNAME:CET
TZOFFSETFROM:+0200
TZOFFSETTO:+0100
DTSTART:19471005T030000
RRULE:FREQ=YEARLY;UNTIL=19491002T010000Z;BYMONTH=10;BYDAY=1SU
END:STANDARD
BEGIN:STANDARD
TZNAME:CET
TZOFFSETFROM:+0200
TZOFFSETTO:+0100
DTSTART:19800928T030000
RRULE:FREQ=YEARLY;UNTIL=19950924T010000Z;BYMONTH=9;BYDAY=-1SU
END:STANDARD
BEGIN:DAYLIGHT
TZNAME:CEST
TZOFFSETFROM:+0100
TZOFFSETTO:+0200
DTSTART:19810329T020000
RRULE:FREQ=YEARLY;BYMONTH=3;BYDAY=-1SU
END:DAYLIGHT
BEGIN:STANDARD
TZNAME:CET
TZOFFSETFROM:+0200
TZOFFSETTO:+0100
DTSTART:19961027T030000
RRULE:FREQ=YEARLY;BYMONTH=10;BYDAY=-1SU
END:STANDARD
END:VTIMEZONE
BEGIN:VEVENT
DTSTAMP:20260419T132303Z
DTSTART;TZID=Europe/Berlin:20250907T110000
DTEND;TZID=Europe/Berlin:20250907T160000
SUMMARY:5. Hofflohmarkt Bad Vilbel
CREATED:20250811T095400Z
LAST-MODIFIED:20250811T095400Z
DESCRIPTION:5. Hofflohmarkt Bad Vilbel am Sonntag\, 07.09.2025 von 11-16 
 Uhr\n\nÜber das gesamte Stadtgebiet werden sich am 07.09.2025 von 11-16 
 Uhr wieder private Flohmarktstände verteilen und auf der Tour de Trödel 
 lässt es sich entspannt durch Nachbarschaften und Stadtteile bummeln. \n
 Der digitale Lageplan mit allen Ausstelleradressen hilft bei der Orienti
 erung.\n\nAlle Informationen rund um das Event findet Sie auf unserer Ho
 mepage.\n\nGemeinsam gestalten wir ein nachhaltiges Stadtevent\, das bei
 m letzten Mal mit über 400 Ausstellern in Bad Vilbel einzigartig in der 
 Rheinmain-Region war.
LOCATION:Bad Vilbel
X-LOCATION-NAME:Bad Vilbel
X-POSTAL-CODE:61118
X-LOCALITY:Bad Vilbel
ORGANIZER;CN="Hofflohmarkt Bad Vilbel ^'Tour de Trödel^'":mailto:info@hof
 flohmarkt-badvilbel.de
X-ORGANIZER-NAME:Hofflohmarkt Bad Vilbel \"Tour de Trödel\"
X-ORGANIZER-EMAIL:info@hofflohmarkt-badvilbel.de
X-ORGANIZER-WEBSITE:https://hofflohmarkt-badvilbel.de
X-ORGANIZER-ADDRESS-POSTALCODE:61118
X-ORGANIZER-ADDRESS-LOCALITY:Bad Vilbel
CONTACT:info@hofflohmarkt-badvilbel.de
X-CONTACT-EMAIL:info@hofflohmarkt-badvilbel.de
URL:https://hofflohmarkt-badvilbel.de
X-IONAS-CATEGORY:Veranstaltung
CATEGORIES:Veranstaltung
ATTACH:https://www.bad-vilbel.de/kalender/2025/2025-09-07-5.-hofflohmarkt
 -bad-vilbel/flyer-06.08.2025-a4.pdf?cid=3ti
UID:291c68db-edbf-4ad8-b713-93e3b0752f41
X-PRICE:Keine Angabe
END:VEVENT
END:VCALENDAR
